BEGIN:VCALENDAR
VERSION:2.0
PRODID:-//Arizona Parenting Magazine - ECPv6.15.20//NONSGML v1.0//EN
CALSCALE:GREGORIAN
METHOD:PUBLISH
X-WR-CALNAME:Arizona Parenting Magazine
X-ORIGINAL-URL:https://azparenting.com
X-WR-CALDESC:Events for Arizona Parenting Magazine
REFRESH-INTERVAL;VALUE=DURATION:PT1H
X-Robots-Tag:noindex
X-PUBLISHED-TTL:PT1H
BEGIN:VTIMEZONE
TZID:America/Phoenix
BEGIN:STANDARD
TZOFFSETFROM:-0700
TZOFFSETTO:-0700
TZNAME:MST
DTSTART:20250101T000000
END:STANDARD
END:VTIMEZONE
BEGIN:VEVENT
DTSTART;TZID=America/Phoenix:20260424T100000
DTEND;TZID=America/Phoenix:20260424T100000
DTSTAMP:20260424T030701
CREATED:20260410T035502Z
LAST-MODIFIED:20260410T035502Z
UID:10067931-1777024800-1777024800@azparenting.com
SUMMARY:Old MacDonald
DESCRIPTION:There’s lots of zany barnyard fun to be had with Old MacDonald and his farm animal friends in this funny\, sing-along show! Recommended for ages 3 and up. \n🪿Call (602) 262-2050 for reservations.
URL:https://azparenting.com/event/old-macdonald-2/2026-04-24/
LOCATION:The Great Arizona Puppet Theater\, 302 W. Latham St.\, Phoenix\, AZ
ATTACH;FMTTYPE=image/jpeg:https://azparenting.com/wp-content/uploads/2026/04/Old-Mac-duck.jpg
GEO:33.4610505;-112.0780731
X-APPLE-STRUCTURED-LOCATION;VALUE=URI;X-ADDRESS=The Great Arizona Puppet Theater 302 W. Latham St. Phoenix AZ;X-APPLE-RADIUS=500;X-TITLE=302 W. Latham St.:geo:-112.0780731,33.4610505
END:VEVENT
END:VCALENDAR