BEGIN:VCALENDAR
VERSION:2.0
PRODID:-//Arizona Parenting Magazine - ECPv6.15.20//NONSGML v1.0//EN
CALSCALE:GREGORIAN
METHOD:PUBLISH
X-WR-CALNAME:Arizona Parenting Magazine
X-ORIGINAL-URL:https://azparenting.com
X-WR-CALDESC:Events for Arizona Parenting Magazine
REFRESH-INTERVAL;VALUE=DURATION:PT1H
X-Robots-Tag:noindex
X-PUBLISHED-TTL:PT1H
BEGIN:VTIMEZONE
TZID:America/Phoenix
BEGIN:STANDARD
TZOFFSETFROM:-0700
TZOFFSETTO:-0700
TZNAME:MST
DTSTART:20220101T000000
END:STANDARD
END:VTIMEZONE
BEGIN:VEVENT
DTSTART;TZID=America/Phoenix:20241214T160000
DTEND;TZID=America/Phoenix:20241214T210000
DTSTAMP:20260422T145414
CREATED:20241127T005632Z
LAST-MODIFIED:20241127T005632Z
UID:10065316-1734192000-1734210000@azparenting.com
SUMMARY:Fantasy of Lights Boat Parade
DESCRIPTION:One of the Valley’s most unique holiday events and a celebrated tradition. Enjoy holiday shopping\, festive eats and treats\, a dazzling boat parade featuring boats of all shapes and sizes\, and spectacular fireworks show that starts at 8:15pm. This event is free and family friendly.
URL:https://azparenting.com/event/fantasy-of-lights-boat-parade-2/
LOCATION:Downtown Tempe\, 6th Street Park\, Tempe\, AZ\, United States
ATTACH;FMTTYPE=image/webp:https://azparenting.com/wp-content/uploads/2023/12/tempe-festival-of-lights-boat-parade-e1701918430621.webp
END:VEVENT
BEGIN:VEVENT
DTSTART;TZID=America/Phoenix:20241027T140000
DTEND;TZID=America/Phoenix:20241027T170000
DTSTAMP:20260422T145414
CREATED:20240921T031020Z
LAST-MODIFIED:20240926T000206Z
UID:10064356-1730037600-1730048400@azparenting.com
SUMMARY:Halloween Stroll
DESCRIPTION:Ghosts\, goblins\, and princesses of all ages are invited to head over to 6th Street Park (next to Tempe City Hall) in Downtown Tempe for some not too spooky Halloween fun. The festive event includes Halloween-themed games\, crafts\, a kids only costume contest\, and trick-or-treating courtesy of local merchants around the Downtown area.
URL:https://azparenting.com/event/halloween-stroll/
LOCATION:Downtown Tempe\, 6th Street Park\, Tempe\, AZ\, United States
ATTACH;FMTTYPE=image/jpeg:https://azparenting.com/wp-content/uploads/2022/11/halloween-stroll-e1726888027157.jpg
END:VEVENT
BEGIN:VEVENT
DTSTART;TZID=America/Phoenix:20231124T160000
DTEND;TZID=America/Phoenix:20231124T210000
DTSTAMP:20260422T145414
CREATED:20231116T010732Z
LAST-MODIFIED:20231116T010732Z
UID:10060553-1700841600-1700859600@azparenting.com
SUMMARY:Fantasy of Lights Street Parade + Tree Lighting
DESCRIPTION:A holiday tradition enjoyed by generations. Bring your family and friends to an event that kicks off the magic of the season with a street parade\, tree lighting ceremony\, live entertainment\, Santa photos\, and so much more!  For more event details click Here.
URL:https://azparenting.com/event/fantasy-of-lights-street-parade-tree-lighting/
LOCATION:Downtown Tempe\, 6th Street Park\, Tempe\, AZ\, United States
ATTACH;FMTTYPE=image/jpeg:https://azparenting.com/wp-content/uploads/2023/11/fantasy-of-lights-parade.jpg
END:VEVENT
BEGIN:VEVENT
DTSTART;TZID=America/Phoenix:20231029T140000
DTEND;TZID=America/Phoenix:20231029T170000
DTSTAMP:20260422T145414
CREATED:20231019T213114Z
LAST-MODIFIED:20231019T214053Z
UID:10058095-1698588000-1698598800@azparenting.com
SUMMARY:Halloween Stroll
DESCRIPTION:Ghosts\, goblins\, and princesses of all ages are invited to head over to 6th Street Park (next to Tempe City Hall) in Downtown Tempe for some not-so-spooky Halloween fun. The not-so-spooky event includes Halloween-themed games\, crafts\, a kids only costume contest\, and trick-or-treating courtesy of local merchants around the Downtown area.
URL:https://azparenting.com/event/halloween-stroll-2/
LOCATION:Downtown Tempe\, 6th Street Park\, Tempe\, AZ\, United States
ATTACH;FMTTYPE=image/jpeg:https://azparenting.com/wp-content/uploads/2023/10/tempe-halloween-stroll.jpg
END:VEVENT
END:VCALENDAR