BEGIN:VCALENDAR
VERSION:2.0
PRODID:-//Arizona Parenting Magazine - ECPv6.15.20//NONSGML v1.0//EN
CALSCALE:GREGORIAN
METHOD:PUBLISH
X-WR-CALNAME:Arizona Parenting Magazine
X-ORIGINAL-URL:https://azparenting.com
X-WR-CALDESC:Events for Arizona Parenting Magazine
REFRESH-INTERVAL;VALUE=DURATION:PT1H
X-Robots-Tag:noindex
X-PUBLISHED-TTL:PT1H
BEGIN:VTIMEZONE
TZID:America/Phoenix
BEGIN:STANDARD
TZOFFSETFROM:-0700
TZOFFSETTO:-0700
TZNAME:MST
DTSTART:20250101T000000
END:STANDARD
END:VTIMEZONE
BEGIN:VEVENT
DTSTART;TZID=America/Phoenix:20260223T183000
DTEND;TZID=America/Phoenix:20260223T193000
DTSTAMP:20260424T092501
CREATED:20251111T193831Z
LAST-MODIFIED:20251111T193831Z
UID:10066639-1771871400-1771875000@azparenting.com
SUMMARY:The Importance of Early Pediatric and Orthodontic Dental Treatment
DESCRIPTION:If you’ve ever asked the following questions\, you’re in the right place! Can you harm your baby’s gums by brushing them too early? When do children get their adult teeth? How can I help my child make flossing habitual? Join Dr. Berrigan and Dr. Rao as they discuss the importance of early dental treatment. In this lecture\, they will describe specific ages when dental treatment benefits a child\, what to expect with early treatment\, and why early treatment is beneficial.
URL:https://azparenting.com/event/the-importance-of-early-pediatric-and-orthodontic-dental-treatment/
LOCATION:Foothills Branch Library\, 19055 North 57th Ave\, Glendale\, 85308\, United States
ATTACH;FMTTYPE=image/png:https://azparenting.com/wp-content/uploads/2021/05/Desert-Foothills-Library-e1762889571276.png
END:VEVENT
END:VCALENDAR