BEGIN:VCALENDAR
VERSION:2.0
PRODID:-//Arizona Parenting Magazine - ECPv6.15.20//NONSGML v1.0//EN
CALSCALE:GREGORIAN
METHOD:PUBLISH
X-WR-CALNAME:Arizona Parenting Magazine
X-ORIGINAL-URL:https://azparenting.com
X-WR-CALDESC:Events for Arizona Parenting Magazine
REFRESH-INTERVAL;VALUE=DURATION:PT1H
X-Robots-Tag:noindex
X-PUBLISHED-TTL:PT1H
BEGIN:VTIMEZONE
TZID:America/Phoenix
BEGIN:STANDARD
TZOFFSETFROM:-0700
TZOFFSETTO:-0700
TZNAME:MST
DTSTART:20240101T000000
END:STANDARD
END:VTIMEZONE
BEGIN:VEVENT
DTSTART;TZID=America/Phoenix:20250503T110000
DTEND;TZID=America/Phoenix:20250503T170000
DTSTAMP:20260424T075109
CREATED:20250424T022942Z
LAST-MODIFIED:20250424T022942Z
UID:10065964-1746270000-1746291600@azparenting.com
SUMMARY:Tlaquepaque Cinco de Mayo Celebration
DESCRIPTION:Come celebrate this Sedona tradition that’s a family favorite for everyone. There will be flamenco dances\, Latin music and a folklorico group performing.  Bring the kids for piñata fun and face painting. Stick around and visit the shops and restaurants at Tlaquepaque.  Admission is free. 
URL:https://azparenting.com/event/tlaquepaque-cinco-de-mayo-celebration/
LOCATION:Tlaquepaque\, 336 SR 179\, Sedona\, 86336\, United States
ATTACH;FMTTYPE=image/jpeg:https://azparenting.com/wp-content/uploads/2025/04/tlaquepaque.jpg
END:VEVENT
END:VCALENDAR