BEGIN:VCALENDAR
VERSION:2.0
PRODID:-//Arizona Parenting Magazine - ECPv6.15.20//NONSGML v1.0//EN
CALSCALE:GREGORIAN
METHOD:PUBLISH
X-WR-CALNAME:Arizona Parenting Magazine
X-ORIGINAL-URL:https://azparenting.com
X-WR-CALDESC:Events for Arizona Parenting Magazine
REFRESH-INTERVAL;VALUE=DURATION:PT1H
X-Robots-Tag:noindex
X-PUBLISHED-TTL:PT1H
BEGIN:VTIMEZONE
TZID:America/Phoenix
BEGIN:STANDARD
TZOFFSETFROM:-0700
TZOFFSETTO:-0700
TZNAME:MST
DTSTART:20240101T000000
END:STANDARD
END:VTIMEZONE
BEGIN:VEVENT
DTSTART;TZID=America/Phoenix:20251025T070000
DTEND;TZID=America/Phoenix:20251025T113000
DTSTAMP:20260425T161151
CREATED:20251003T172729Z
LAST-MODIFIED:20251003T172729Z
UID:10066473-1761375600-1761391800@azparenting.com
SUMMARY:Spooktacular Sprint & 5k Fundraiser
DESCRIPTION:Phoenix Children’s Foundation is hosting the Spooktacular Sprint & 5K\, a Halloween-themed community event featuring a 3.1-mile run\, walk\, or jog through city streets. Open to all ages\, the event will include trick-or-treating\, festive activities\, and a lively costume-friendly atmosphere. Proceeds support pediatric care across Arizona\, with participants able to fundraise for specific areas or contribute to the Hope Fund\, benefiting over 170 programs at Phoenix Children’s. Registration Prices vary\, check website for details. \nEvent Schedule: \n\n7 a.m. Registration / Check-In\n8:15 a.m. 5k walk/run starts\n9:45 a.m. Kids Spooktacular Sprint starts\n9:00 a.m. – 11:30 a.m. Sponsor and Vendor Trick or Treating\n11:30 a.m. Event Concludes
URL:https://azparenting.com/event/spooktacular-sprint-5k-fundraiser/
LOCATION:wesley bolin plaza\, 1700 W. Washington Street\, Phoenix\, AZ\, United States
ATTACH;FMTTYPE=image/jpeg:https://azparenting.com/wp-content/uploads/2019/09/PCH5K-2018-e1759512402579.jpg
END:VEVENT
END:VCALENDAR